BEGIN:VCALENDAR
VERSION:2.0
PRODID:-//Judo Club KAMI Nalinnes - ECPv6.15.20//NONSGML v1.0//EN
CALSCALE:GREGORIAN
METHOD:PUBLISH
X-WR-CALNAME:Judo Club KAMI Nalinnes
X-ORIGINAL-URL:https://www.kami-nalinnes.be
X-WR-CALDESC:Évènements pour Judo Club KAMI Nalinnes
REFRESH-INTERVAL;VALUE=DURATION:PT1H
X-Robots-Tag:noindex
X-PUBLISHED-TTL:PT1H
BEGIN:VTIMEZONE
TZID:Europe/Paris
BEGIN:DAYLIGHT
TZOFFSETFROM:+0100
TZOFFSETTO:+0200
TZNAME:CEST
DTSTART:20250330T010000
END:DAYLIGHT
BEGIN:STANDARD
TZOFFSETFROM:+0200
TZOFFSETTO:+0100
TZNAME:CET
DTSTART:20251026T010000
END:STANDARD
BEGIN:DAYLIGHT
TZOFFSETFROM:+0100
TZOFFSETTO:+0200
TZNAME:CEST
DTSTART:20260329T010000
END:DAYLIGHT
BEGIN:STANDARD
TZOFFSETFROM:+0200
TZOFFSETTO:+0100
TZNAME:CET
DTSTART:20261025T010000
END:STANDARD
BEGIN:DAYLIGHT
TZOFFSETFROM:+0100
TZOFFSETTO:+0200
TZNAME:CEST
DTSTART:20270328T010000
END:DAYLIGHT
BEGIN:STANDARD
TZOFFSETFROM:+0200
TZOFFSETTO:+0100
TZNAME:CET
DTSTART:20271031T010000
END:STANDARD
END:VTIMEZONE
BEGIN:VEVENT
DTSTART;VALUE=DATE:20260430
DTEND;VALUE=DATE:20260506
DTSTAMP:20260421T105535
CREATED:20260115T134233Z
LAST-MODIFIED:20260326T110328Z
UID:1563-1777507200-1778025599@www.kami-nalinnes.be
SUMMARY:Congé de Pâques
DESCRIPTION:
URL:https://www.kami-nalinnes.be/agenda/conge-de-paques-2/
CATEGORIES:Congé,Informations
END:VEVENT
END:VCALENDAR